BEGIN:VCALENDAR
VERSION:2.0
PRODID:-//Fair Lawn Chamber of Commerce in Fair Lawn, New Jersey - ECPv6.15.12.2//NONSGML v1.0//EN
CALSCALE:GREGORIAN
METHOD:PUBLISH
X-ORIGINAL-URL:https://www.fairlawnchamber.org
X-WR-CALDESC:Events for Fair Lawn Chamber of Commerce in Fair Lawn, New Jersey
REFRESH-INTERVAL;VALUE=DURATION:PT1H
X-Robots-Tag:noindex
X-PUBLISHED-TTL:PT1H
BEGIN:VTIMEZONE
TZID:America/New_York
BEGIN:DAYLIGHT
TZOFFSETFROM:-0500
TZOFFSETTO:-0400
TZNAME:EDT
DTSTART:20240310T070000
END:DAYLIGHT
BEGIN:STANDARD
TZOFFSETFROM:-0400
TZOFFSETTO:-0500
TZNAME:EST
DTSTART:20241103T060000
END:STANDARD
BEGIN:DAYLIGHT
TZOFFSETFROM:-0500
TZOFFSETTO:-0400
TZNAME:EDT
DTSTART:20250309T070000
END:DAYLIGHT
BEGIN:STANDARD
TZOFFSETFROM:-0400
TZOFFSETTO:-0500
TZNAME:EST
DTSTART:20251102T060000
END:STANDARD
BEGIN:DAYLIGHT
TZOFFSETFROM:-0500
TZOFFSETTO:-0400
TZNAME:EDT
DTSTART:20260308T070000
END:DAYLIGHT
BEGIN:STANDARD
TZOFFSETFROM:-0400
TZOFFSETTO:-0500
TZNAME:EST
DTSTART:20261101T060000
END:STANDARD
END:VTIMEZONE
BEGIN:VEVENT
DTSTART;TZID=America/New_York:20250121T114500
DTEND;TZID=America/New_York:20250121T130000
DTSTAMP:20260425T151408
CREATED:20241230T210103Z
LAST-MODIFIED:20250102T171123Z
UID:30359-1737459900-1737464400@www.fairlawnchamber.org
SUMMARY:January Member Meeting
DESCRIPTION:Welcome back! I hope everyone is excited for 2025! We are looking to make this the best year yet!
URL:https://www.fairlawnchamber.org/event/january-member-meeting/
LOCATION:American Legion Hall\, 17-08 River Road\, Fair Lawn\, NJ\, 07410\, United States
ATTACH;FMTTYPE=image/png:https://www.fairlawnchamber.org/wp-content/uploads/2024/12/1.21-Meeting-Flyer.png
END:VEVENT
END:VCALENDAR