BEGIN:VCALENDAR
VERSION:2.0
PRODID:-//Fair Lawn Chamber of Commerce in Fair Lawn, New Jersey - ECPv6.15.12.2//NONSGML v1.0//EN
CALSCALE:GREGORIAN
METHOD:PUBLISH
X-WR-CALNAME:Fair Lawn Chamber of Commerce in Fair Lawn, New Jersey
X-ORIGINAL-URL:https://www.fairlawnchamber.org
X-WR-CALDESC:Events for Fair Lawn Chamber of Commerce in Fair Lawn, New Jersey
REFRESH-INTERVAL;VALUE=DURATION:PT1H
X-Robots-Tag:noindex
X-PUBLISHED-TTL:PT1H
BEGIN:VTIMEZONE
TZID:America/New_York
BEGIN:DAYLIGHT
TZOFFSETFROM:-0500
TZOFFSETTO:-0400
TZNAME:EDT
DTSTART:20240310T070000
END:DAYLIGHT
BEGIN:STANDARD
TZOFFSETFROM:-0400
TZOFFSETTO:-0500
TZNAME:EST
DTSTART:20241103T060000
END:STANDARD
BEGIN:DAYLIGHT
TZOFFSETFROM:-0500
TZOFFSETTO:-0400
TZNAME:EDT
DTSTART:20250309T070000
END:DAYLIGHT
BEGIN:STANDARD
TZOFFSETFROM:-0400
TZOFFSETTO:-0500
TZNAME:EST
DTSTART:20251102T060000
END:STANDARD
BEGIN:DAYLIGHT
TZOFFSETFROM:-0500
TZOFFSETTO:-0400
TZNAME:EDT
DTSTART:20260308T070000
END:DAYLIGHT
BEGIN:STANDARD
TZOFFSETFROM:-0400
TZOFFSETTO:-0500
TZNAME:EST
DTSTART:20261101T060000
END:STANDARD
END:VTIMEZONE
BEGIN:VEVENT
DTSTART;TZID=America/New_York:20250601T130000
DTEND;TZID=America/New_York:20250601T160000
DTSTAMP:20260425T072607
CREATED:20250430T045103Z
LAST-MODIFIED:20250430T045103Z
UID:31644-1748782800-1748793600@www.fairlawnchamber.org
SUMMARY:Fair Lawn Sunrise Rotary: Rotary Access for All Fair
DESCRIPTION:We are excited to introduce the Rotary Access for All Fair\, a community event designed to provide an inclusive and joyful experience for individuals with special needs and their families. Hosted by the NJ Metro Rotary Club and the Fair Lawn Sunrise Rotary\, this event will will feature sensory-friendly activities\, including rides\, games\, music\, and more. \nEntry\, rides and activities are FREE! \nTo make this day truly special\, we are seeking community partners to help us provide customized activities to ensure accessibility for all. Please let us know if your organization can provide a game\, activity or sensory activity. \nAlso let us know if your organization will supply the volunteers needed to run the activity during the event. \nDate: June 1st\, 2025 Time: 1-4pm \nPlace: Memorial Pool\, Fair Lawn \nWe are very excited to bring this all inclusive event to the community\, and we’re looking forward to partnering with friends like you to help make this day special! \nReach out to the Rotary Access for All Committee with any questions\, rotary.access.for.all@gmail.com or 551-257-5831. \nInterested in helping with a game\, activity or sensory activity? Reach out to one of our Games & Activities Co-Chairs (Stephanie Young\, stephanienyoung@rotaryclubofmetronj.org\, 973 303 1853 or Stella Lemberg\, stellalemberg1@gmail.com\, 201 477 8448) with the following information: \nClick here for activity information \nTo make this day truly special\, we are seeking community partners to help us reach our fundraising goal of $20\,000. Your sponsorship will directly support this event\, providing customized activities and ensuring accessibility for all! \nClick here for Donation or Sponsorship \n  \n 
URL:https://www.fairlawnchamber.org/event/fair-lawn-sunrise-rotary-rotary-access-for-all-fair/
LOCATION:Memorial Pool\, Fair Lawn\, NJ\, 07410\, United States
ATTACH;FMTTYPE=image/jpeg:https://www.fairlawnchamber.org/wp-content/uploads/2025/04/Rotary-Access-for-All-Fair.jpg
END:VEVENT
END:VCALENDAR