BEGIN:VCALENDAR
VERSION:2.0
PRODID:-//Fair Lawn Chamber of Commerce in Fair Lawn, New Jersey - ECPv6.15.12.2//NONSGML v1.0//EN
CALSCALE:GREGORIAN
METHOD:PUBLISH
X-WR-CALNAME:Fair Lawn Chamber of Commerce in Fair Lawn, New Jersey
X-ORIGINAL-URL:https://www.fairlawnchamber.org
X-WR-CALDESC:Events for Fair Lawn Chamber of Commerce in Fair Lawn, New Jersey
REFRESH-INTERVAL;VALUE=DURATION:PT1H
X-Robots-Tag:noindex
X-PUBLISHED-TTL:PT1H
BEGIN:VTIMEZONE
TZID:America/New_York
BEGIN:DAYLIGHT
TZOFFSETFROM:-0500
TZOFFSETTO:-0400
TZNAME:EDT
DTSTART:20240310T070000
END:DAYLIGHT
BEGIN:STANDARD
TZOFFSETFROM:-0400
TZOFFSETTO:-0500
TZNAME:EST
DTSTART:20241103T060000
END:STANDARD
BEGIN:DAYLIGHT
TZOFFSETFROM:-0500
TZOFFSETTO:-0400
TZNAME:EDT
DTSTART:20250309T070000
END:DAYLIGHT
BEGIN:STANDARD
TZOFFSETFROM:-0400
TZOFFSETTO:-0500
TZNAME:EST
DTSTART:20251102T060000
END:STANDARD
BEGIN:DAYLIGHT
TZOFFSETFROM:-0500
TZOFFSETTO:-0400
TZNAME:EDT
DTSTART:20260308T070000
END:DAYLIGHT
BEGIN:STANDARD
TZOFFSETFROM:-0400
TZOFFSETTO:-0500
TZNAME:EST
DTSTART:20261101T060000
END:STANDARD
END:VTIMEZONE
BEGIN:VEVENT
DTSTART;TZID=America/New_York:20250604T080000
DTEND;TZID=America/New_York:20250608T170000
DTSTAMP:20260425T072520
CREATED:20250601T095135Z
LAST-MODIFIED:20250601T095135Z
UID:31764-1749024000-1749402000@www.fairlawnchamber.org
SUMMARY:Make an Impact 5K Virtual Walk\, Run or Roll
DESCRIPTION:LACE UP YOUR SNEAKERS AND GET READY TO MAKE AN IMPACT \nGather your family\, friends and co-workers and get ready for FITNESS\, FUN and FUNDRAISING! \nEvery step taken and every dollar raised helps Children’s Aid and Family Services continue to provide vital\, high-quality services to the most vulnerable in our community. \nParticipation is EASY! Scan the qr-code on this flyer to register\, start a team or donate and then spread the word. Together\, we can change lives—one step at a time. \nREGISTER NOW AND WALK\, RUN OR ROLL ANYTIME FROM JUNE 4TH – JUNE 8TH \nCHOOSE YOUR LOCATION-YOUR LOCAL PARK\, HIGH SCHOOL TRACK\, NEIGHBORHOOD\, MALL\, OR EVEN ON THE TREADMILL AT THE GYM! \nFOR QUESTIONS\, PLEASE CONTACT JESSICA ECKER AT JECKER@CAFSNJ.ORG OR CALL 201-740-7101 \n 
URL:https://www.fairlawnchamber.org/event/make-an-impact-5k-virtual-walk-run-or-roll/
ATTACH;FMTTYPE=image/jpeg:https://www.fairlawnchamber.org/wp-content/uploads/2025/06/Childrens-Aid-and-Family-Services-5K-FLYER-6-2025_page-0001.jpg
END:VEVENT
BEGIN:VEVENT
DTSTART;TZID=America/New_York:20250608T120000
DTEND;TZID=America/New_York:20250608T160000
DTSTAMP:20260425T072520
CREATED:20250513T100117Z
LAST-MODIFIED:20250513T100117Z
UID:31744-1749384000-1749398400@www.fairlawnchamber.org
SUMMARY:PRIDE Block Party
DESCRIPTION:Fair Lawn’s Community Relations Advisory Committee Presents \nFair Lawn PRIDE 2025: \nYou Belong \nBlock Party \nSunday June 8\, 2025 \nNew Location: Memorial Park\, Fair Lawn \nFeaturing: Noon – 4PM \nPride Ceremony Community Fair and Vendor Bazaar Food and Drinks for Purchase DJ\, Live Music\, and Performances Drag Queen Bingo Kids Activities\, Splash Pad\, Inflatable Slide \nFor more information and applications for Sponsorships/Community Fair/Vendor Bazaar opportunities\, contact FairLawnCRA@gmail.com
URL:https://www.fairlawnchamber.org/event/pride-block-party/
ATTACH;FMTTYPE=image/jpeg:https://www.fairlawnchamber.org/wp-content/uploads/2025/04/Fair-Lawn-PRIDE-2025-flyer.jpg
END:VEVENT
END:VCALENDAR