BEGIN:VCALENDAR
VERSION:2.0
PRODID:-//Fair Lawn Chamber of Commerce in Fair Lawn, New Jersey - ECPv6.15.12.2//NONSGML v1.0//EN
CALSCALE:GREGORIAN
METHOD:PUBLISH
X-WR-CALNAME:Fair Lawn Chamber of Commerce in Fair Lawn, New Jersey
X-ORIGINAL-URL:https://www.fairlawnchamber.org
X-WR-CALDESC:Events for Fair Lawn Chamber of Commerce in Fair Lawn, New Jersey
REFRESH-INTERVAL;VALUE=DURATION:PT1H
X-Robots-Tag:noindex
X-PUBLISHED-TTL:PT1H
BEGIN:VTIMEZONE
TZID:America/New_York
BEGIN:DAYLIGHT
TZOFFSETFROM:-0500
TZOFFSETTO:-0400
TZNAME:EDT
DTSTART:20240310T070000
END:DAYLIGHT
BEGIN:STANDARD
TZOFFSETFROM:-0400
TZOFFSETTO:-0500
TZNAME:EST
DTSTART:20241103T060000
END:STANDARD
BEGIN:DAYLIGHT
TZOFFSETFROM:-0500
TZOFFSETTO:-0400
TZNAME:EDT
DTSTART:20250309T070000
END:DAYLIGHT
BEGIN:STANDARD
TZOFFSETFROM:-0400
TZOFFSETTO:-0500
TZNAME:EST
DTSTART:20251102T060000
END:STANDARD
BEGIN:DAYLIGHT
TZOFFSETFROM:-0500
TZOFFSETTO:-0400
TZNAME:EDT
DTSTART:20260308T070000
END:DAYLIGHT
BEGIN:STANDARD
TZOFFSETFROM:-0400
TZOFFSETTO:-0500
TZNAME:EST
DTSTART:20261101T060000
END:STANDARD
BEGIN:DAYLIGHT
TZOFFSETFROM:-0500
TZOFFSETTO:-0400
TZNAME:EDT
DTSTART:20270314T070000
END:DAYLIGHT
BEGIN:STANDARD
TZOFFSETFROM:-0400
TZOFFSETTO:-0500
TZNAME:EST
DTSTART:20271107T060000
END:STANDARD
END:VTIMEZONE
BEGIN:VEVENT
DTSTART;TZID=America/New_York:20260402T180000
DTEND;TZID=America/New_York:20260402T220000
DTSTAMP:20260422T185717
CREATED:20260119T171454Z
LAST-MODIFIED:20260119T171454Z
UID:32349-1775152800-1775167200@www.fairlawnchamber.org
SUMMARY:Passover begins (April 2 - April 9\, 2026)
DESCRIPTION:
URL:https://www.fairlawnchamber.org/event/passover-begins-april-2-april-9-2026/
END:VEVENT
BEGIN:VEVENT
DTSTART;TZID=America/New_York:20260326T083000
DTEND;TZID=America/New_York:20260326T103000
DTSTAMP:20260422T185717
CREATED:20260119T171431Z
LAST-MODIFIED:20260119T171431Z
UID:32348-1774513800-1774521000@www.fairlawnchamber.org
SUMMARY:New Member Breakfast (Members from 1/2025 - 3/2026)
DESCRIPTION:
URL:https://www.fairlawnchamber.org/event/new-member-breakfast-members-from-1-2025-3-2026/
END:VEVENT
BEGIN:VEVENT
DTSTART;TZID=America/New_York:20260317T080000
DTEND;TZID=America/New_York:20260317T200000
DTSTAMP:20260422T185717
CREATED:20260119T171431Z
LAST-MODIFIED:20260119T171431Z
UID:32347-1773734400-1773777600@www.fairlawnchamber.org
SUMMARY:St. Patrick's Day
DESCRIPTION:
URL:https://www.fairlawnchamber.org/event/st-patricks-day/
END:VEVENT
BEGIN:VEVENT
DTSTART;TZID=America/New_York:20260312T173000
DTEND;TZID=America/New_York:20260312T193000
DTSTAMP:20260422T185717
CREATED:20260119T171431Z
LAST-MODIFIED:20260119T171431Z
UID:32346-1773336600-1773343800@www.fairlawnchamber.org
SUMMARY:Evening Networking @ BRINE
DESCRIPTION:
URL:https://www.fairlawnchamber.org/event/evening-networking-brine/
END:VEVENT
BEGIN:VEVENT
DTSTART;TZID=America/New_York:20260311T080000
DTEND;TZID=America/New_York:20260311T093000
DTSTAMP:20260422T185717
CREATED:20260119T171431Z
LAST-MODIFIED:20260119T171431Z
UID:32345-1773216000-1773221400@www.fairlawnchamber.org
SUMMARY:Networking & Breakfast @ Gotham City Diner
DESCRIPTION:
URL:https://www.fairlawnchamber.org/event/networking-breakfast-gotham-city-diner-2/
END:VEVENT
BEGIN:VEVENT
DTSTART;TZID=America/New_York:20260308T080000
DTEND;TZID=America/New_York:20260308T200000
DTSTAMP:20260422T185717
CREATED:20260119T171430Z
LAST-MODIFIED:20260119T171430Z
UID:32344-1772956800-1773000000@www.fairlawnchamber.org
SUMMARY:International Women's Day
DESCRIPTION:
URL:https://www.fairlawnchamber.org/event/international-womens-day/
END:VEVENT
BEGIN:VEVENT
DTSTART;TZID=America/New_York:20260223T180000
DTEND;TZID=America/New_York:20260223T200000
DTSTAMP:20260422T185717
CREATED:20260119T171414Z
LAST-MODIFIED:20260119T171415Z
UID:32338-1771869600-1771876800@www.fairlawnchamber.org
SUMMARY:Taste of Our Town
DESCRIPTION:Join us for the Fair Lawn Chamber’s Annual Taste of Our Town. \nTaste delicious samples from a wide range of restaurants while raising funds for the Fair Lawn Chamber High School Scholarship Fund and other community events. \nTicket information to come.
URL:https://www.fairlawnchamber.org/event/taste-of-our-town-3/
END:VEVENT
BEGIN:VEVENT
DTSTART;VALUE=DATE:20260223
DTEND;VALUE=DATE:20260224
DTSTAMP:20260422T185717
CREATED:20260115T125434Z
LAST-MODIFIED:20260119T152838Z
UID:30474-1771804800-1771891199@www.fairlawnchamber.org
SUMMARY:Fair Lawn Chamber of Commerce Taste of Our Town
DESCRIPTION:PARTICIPATE IN THE FAIR LAWN CHAMBER OF COMMERCE TASTE OF OUR TOWN 2026 \nDate:              Monday\, February 23\, 2026 \nTime:             6-8PM (Vendor arrival 5PM)\nLocation:      Fair Lawn Community Center\, 10-10 20th Street\, Fair Lawn\, NJ \nShowcase Your Restaurant at the Premier Culinary Event of the Year! \nThe Fair Lawn Chamber of Commerce invites you to be part of our annual Taste of Our Town event\, where local restaurants come together to celebrate the vibrant food culture of our community. This is an opportunity to showcase your culinary creations\, connect with food enthusiasts\, and promote your business. \nWhy Participate? \n\nGain Exposure: Spotlight your cuisine to new potential customers\nNetwork: Connect with business owners\, community members\, and food lovers\nMarketing Benefits: Be featured in promotions\, social media\, email campaigns\, signage\nSupport the Community: Proceeds benefit he Fair Lawn Food Bank\n\nWhat We Provide: \n\nDesignated space: table\, chairs\, sternos\, paper goods\nMarketing and promotion; Event assistance\n\nWhat We Need From Each Participating Restaurant: \n\nSample size food to serve 100+ attendees\nOn-site staff to serve/engage with guests. (If unable\, contact the Chamber for volunteers)\nEquipment/serving materials specific to your offerings\n\nHow to Sign Up: \n\nRegister by Friday\, February 13\, 2026. Spaces are limited.\nEmail Info@FairLawnChamber.org with your planned dish\, ability to provide staff to serve along your contact information for the day of the event.\n\nDay of the Event: \n\nArrive at the Fair Lawn Community Center for set up at 5PM; Bring your own chafing dishes\n\nFor general admission tickets: \nhttps://www.chamberdata.net/webforms/EvtListing.aspx?dbid2=njfala&evtid=6212&class=B \nDon’t miss out on this opportunity to showcase your restaurant and make connections that last a lifetime! Let’s make this year’s Taste of Our Town the best one yet! \nNOTE: Additional SPONSORSHIPS available: \nhttps://www.fairlawnchamber.org/wp-content/uploads/2026/01/Taste-of-Our-Town-2026-Sponsorship.pdf
URL:https://www.fairlawnchamber.org/event/taste-of-our-town-2026/
LOCATION:Fair Lawn Community Center\, 10-10 20th St\, Fair Lawn\, NJ\, 07410\, United States
END:VEVENT
BEGIN:VEVENT
DTSTART;TZID=America/New_York:20260217T120000
DTEND;TZID=America/New_York:20260217T133000
DTSTAMP:20260422T185717
CREATED:20260119T171414Z
LAST-MODIFIED:20260119T171415Z
UID:32337-1771329600-1771335000@www.fairlawnchamber.org
SUMMARY:Lunch 'n Learn: Estate Planning: It Ain't Just Wills
DESCRIPTION:Join Attorney Kimberly Paton from the Paton Law Firm as she discusses Estate Planning: It Ain’t Just Wills.
URL:https://www.fairlawnchamber.org/event/lunch-n-learn-estate-planning-it-aint-just-wills/
END:VEVENT
BEGIN:VEVENT
DTSTART;TZID=America/New_York:20260216T080000
DTEND;TZID=America/New_York:20260216T080000
DTSTAMP:20260422T185717
CREATED:20260119T171414Z
LAST-MODIFIED:20260119T171415Z
UID:32336-1771228800-1771228800@www.fairlawnchamber.org
SUMMARY:President's Day
DESCRIPTION:
URL:https://www.fairlawnchamber.org/event/presidents-day/
END:VEVENT
BEGIN:VEVENT
DTSTART;TZID=America/New_York:20260211T080000
DTEND;TZID=America/New_York:20260211T093000
DTSTAMP:20260422T185717
CREATED:20260119T171414Z
LAST-MODIFIED:20260119T171415Z
UID:32335-1770796800-1770802200@www.fairlawnchamber.org
SUMMARY:Networking & Breakfast @ Gotham City Diner
DESCRIPTION:
URL:https://www.fairlawnchamber.org/event/networking-breakfast-gotham-city-diner/
END:VEVENT
BEGIN:VEVENT
DTSTART;TZID=America/New_York:20260129T080000
DTEND;TZID=America/New_York:20260129T093000
DTSTAMP:20260422T185717
CREATED:20260119T171414Z
LAST-MODIFIED:20260119T171415Z
UID:32334-1769673600-1769679000@www.fairlawnchamber.org
SUMMARY:Speed Networking
DESCRIPTION:Registration: https://business.mrcc.biz/event-calendar/Details/multi-chamber-speed-networking
URL:https://www.fairlawnchamber.org/event/speed-networking/
END:VEVENT
BEGIN:VEVENT
DTSTART;TZID=America/New_York:20260120T120000
DTEND;TZID=America/New_York:20260120T133000
DTSTAMP:20260422T185717
CREATED:20260119T171412Z
LAST-MODIFIED:20260119T171412Z
UID:32333-1768910400-1768915800@www.fairlawnchamber.org
SUMMARY:Fair Lawn Chamber General Meeting
DESCRIPTION:
URL:https://www.fairlawnchamber.org/event/fair-lawn-chamber-general-meeting-2/
END:VEVENT
BEGIN:VEVENT
DTSTART;TZID=America/New_York:20260119T003000
DTEND;TZID=America/New_York:20260119T210000
DTSTAMP:20260422T185717
CREATED:20260119T171412Z
LAST-MODIFIED:20260119T171412Z
UID:32332-1768782600-1768856400@www.fairlawnchamber.org
SUMMARY:Martin Luther King Day
DESCRIPTION:
URL:https://www.fairlawnchamber.org/event/martin-luther-king-day/
END:VEVENT
BEGIN:VEVENT
DTSTART;TZID=America/New_York:20260112T173000
DTEND;TZID=America/New_York:20260112T183000
DTSTAMP:20260422T185717
CREATED:20260119T171412Z
LAST-MODIFIED:20260119T171412Z
UID:32331-1768239000-1768242600@www.fairlawnchamber.org
SUMMARY:Level Up Your Sales Game -- Virtual Training
DESCRIPTION:Internationally recognized Master Sales Trainer Eric Lofholm will present a virtual workshop designed to help entrepreneurs\, business owners\, and sales professionals improve sales performance. \nThe Fair Lawn Chamber teams up with the Teaneck Chamber of Commerce for this program.
URL:https://www.fairlawnchamber.org/event/level-up-your-sales-game-virtual-training/
END:VEVENT
BEGIN:VEVENT
DTSTART;TZID=America/New_York:20260107T080000
DTEND;TZID=America/New_York:20260107T093000
DTSTAMP:20260422T185717
CREATED:20260119T171412Z
LAST-MODIFIED:20260119T171412Z
UID:32330-1767772800-1767778200@www.fairlawnchamber.org
SUMMARY:Monthly Networking & Breakfast @ Gotham City Diner
DESCRIPTION:
URL:https://www.fairlawnchamber.org/event/monthly-networking-breakfast-gotham-city-diner/
END:VEVENT
BEGIN:VEVENT
DTSTART;TZID=America/New_York:20260101T000100
DTEND;TZID=America/New_York:20260101T235900
DTSTAMP:20260422T185717
CREATED:20260119T171412Z
LAST-MODIFIED:20260119T171412Z
UID:32329-1767225660-1767311940@www.fairlawnchamber.org
SUMMARY:New Year's Day
DESCRIPTION:
URL:https://www.fairlawnchamber.org/event/new-years-day/
END:VEVENT
BEGIN:VEVENT
DTSTART;TZID=America/New_York:20251210T080000
DTEND;TZID=America/New_York:20251210T100000
DTSTAMP:20260422T185717
CREATED:20250703T060045Z
LAST-MODIFIED:20250716T223936Z
UID:32039-1765353600-1765360800@www.fairlawnchamber.org
SUMMARY:Monthly Breakfast Networking at the Gotham City Diner
DESCRIPTION:The FLCC Invites You To Monthly Breakfast Networking \nMenu Options: \n• French Toast\n• Pancakes\n• 2 Eggs\, Hashbrowns\, Toast\n• Berry Oatmeal\n• Yogurt Bowl \nIncludes coffee or tea \nPricing: \n• Chamber Members: $20/person | For Ticket Click Here\n• Future Members: $25/person | For Ticket Click Here \nRSVP: director@fairlawnchamber.org \nPlease include the date you are RSVPing for.
URL:https://www.fairlawnchamber.org/event/monthly-breakfast-networking-at-the-gotham-city-diner-6/
LOCATION:Gotham City Diner\, 39-10 Broadway\, Fair Lawn\, NJ\, 07410\, United States
CATEGORIES:Networking
END:VEVENT
BEGIN:VEVENT
DTSTART;TZID=America/New_York:20251112T080000
DTEND;TZID=America/New_York:20251112T100000
DTSTAMP:20260422T185717
CREATED:20250703T055623Z
LAST-MODIFIED:20250703T055623Z
UID:32037-1762934400-1762941600@www.fairlawnchamber.org
SUMMARY:Monthly Breakfast Networking at the Gotham City Diner
DESCRIPTION:The FLCC Invites You To Monthly Breakfast Networking \nMenu Options: \n• French Toast\n• Pancakes\n• 2 Eggs\, Hashbrowns\, Toast\n• Berry Oatmeal\n• Yogurt Bowl \nIncludes coffee or tea \nPricing: \n• Chamber Members: $20/person | For Ticket Click Here\n• Future Members: $25/person | For Ticket Click Here \nRSVP: director@fairlawnchamber.org \nPlease include the date you are RSVPing for.
URL:https://www.fairlawnchamber.org/event/monthly-breakfast-networking-at-the-gotham-city-diner-5/
LOCATION:Gotham City Diner\, 39-10 Broadway\, Fair Lawn\, NJ\, 07410\, United States
CATEGORIES:Networking
ATTACH;FMTTYPE=image/png:https://www.fairlawnchamber.org/wp-content/uploads/2025/07/FLCC-Monthly-Breakfast-Networking-Gotham-City-Diner.png
END:VEVENT
BEGIN:VEVENT
DTSTART;TZID=America/New_York:20251019T110000
DTEND;TZID=America/New_York:20251019T170000
DTSTAMP:20260422T185717
CREATED:20250128T104515Z
LAST-MODIFIED:20250501T050911Z
UID:30635-1760871600-1760893200@www.fairlawnchamber.org
SUMMARY:Fair Lawn Street Fair October 2025
DESCRIPTION:Become a Member and SAVE at our Fair Lawn Street Fair! \nLocation : River Road Street Fair Date \nDOWNLOAD 2025 EXHIBITOR APPLICATION FORM
URL:https://www.fairlawnchamber.org/event/fair-lawn-chamber-of-commerce-2/
LOCATION:River Road Street Fair Date\, River Road\, Fair Lawn\, NJ\, United States
ATTACH;FMTTYPE=image/jpeg:https://www.fairlawnchamber.org/wp-content/uploads/2025/01/ChatGPT-Image-May-1-2025-12_06_44-PM.jpg
END:VEVENT
BEGIN:VEVENT
DTSTART;TZID=America/New_York:20251008T080000
DTEND;TZID=America/New_York:20251008T100000
DTSTAMP:20260422T185717
CREATED:20250703T055025Z
LAST-MODIFIED:20250703T055025Z
UID:32035-1759910400-1759917600@www.fairlawnchamber.org
SUMMARY:Monthly Breakfast Networking at the Gotham City Diner
DESCRIPTION:The FLCC Invites You To Monthly Breakfast Networking \nMenu Options: \n• French Toast\n• Pancakes\n• 2 Eggs\, Hashbrowns\, Toast\n• Berry Oatmeal\n• Yogurt Bowl \nIncludes coffee or tea \nPricing: \n• Chamber Members: $20/person | For Ticket Click Here\n• Future Members: $25/person | For Ticket Click Here \nRSVP: director@fairlawnchamber.org \nPlease include the date you are RSVPing for.
URL:https://www.fairlawnchamber.org/event/monthly-breakfast-networking-at-the-gotham-city-diner-4/
LOCATION:Gotham City Diner\, 39-10 Broadway\, Fair Lawn\, NJ\, 07410\, United States
CATEGORIES:Networking
ATTACH;FMTTYPE=image/png:https://www.fairlawnchamber.org/wp-content/uploads/2025/07/FLCC-Monthly-Breakfast-Networking-Gotham-City-Diner.png
END:VEVENT
BEGIN:VEVENT
DTSTART;TZID=America/New_York:20250925T190000
DTEND;TZID=America/New_York:20250925T210000
DTSTAMP:20260422T185717
CREATED:20250702T090043Z
LAST-MODIFIED:20250702T090043Z
UID:32020-1758826800-1758834000@www.fairlawnchamber.org
SUMMARY:Trivia Night at Gotham City Diner
DESCRIPTION:Trivia Night Gotham City Diner \nBring your own team or create one when you arrive. Enjoy a fun evening of trivia and delicious food! \nNo Fee to Join \nPlease support our member\, Gotham City Diner\, by purchasing food and drinks. \nBring your business cards — you never know who you’ll meet! \nRSVP: director@fairlawnchamber.org
URL:https://www.fairlawnchamber.org/event/trivia-night-at-gotham-city-diner/
LOCATION:Gotham City Diner\, 39-10 Broadway\, Fair Lawn\, NJ\, 07410\, United States
ATTACH;FMTTYPE=image/png:https://www.fairlawnchamber.org/wp-content/uploads/2025/07/Chamber-Trivia-9-25-2025.png
END:VEVENT
BEGIN:VEVENT
DTSTART;TZID=America/New_York:20250910T173000
DTEND;TZID=America/New_York:20250910T193000
DTSTAMP:20260422T185717
CREATED:20250702T010010Z
LAST-MODIFIED:20250702T010114Z
UID:32011-1757525400-1757532600@www.fairlawnchamber.org
SUMMARY:After Work Networking + Tour of The Chelsea at Fair Lawn
DESCRIPTION:Wednesday\, September 10 \n5:30 – 7:30 PM \nThe Chelsea at Fair Lawn \nEnjoy an evening of: \n\nNetworking\nLight Bites\nCamaraderie\n\nMembers: Complimentary \nFuture Members: $15 | Click here for tickets \nRSVP: director@fairlawnchamber.org
URL:https://www.fairlawnchamber.org/event/after-work-networking-tour-of-the-chelsea-at-fair-lawn/
LOCATION:The Chelsea at Fair Lawn 16-00 River Road Fair Lawn\, 07410 United
CATEGORIES:Networking
ATTACH;FMTTYPE=image/jpeg:https://www.fairlawnchamber.org/wp-content/uploads/2025/06/Chelsea-at-Fair-Lawn-Sept-10-2025-after-work-1.jpg
END:VEVENT
BEGIN:VEVENT
DTSTART;TZID=America/New_York:20250910T080000
DTEND;TZID=America/New_York:20250910T100000
DTSTAMP:20260422T185717
CREATED:20250703T053152Z
LAST-MODIFIED:20250711T181358Z
UID:32032-1757491200-1757498400@www.fairlawnchamber.org
SUMMARY:Monthly Breakfast Networking at the Gotham City Diner
DESCRIPTION:The FLCC Invites You To Monthly Breakfast Networking \nMenu Options: \n• French Toast\n• Pancakes\n• 2 Eggs\, Hashbrowns\, Toast\n• Berry Oatmeal\n• Yogurt Bowl \nIncludes coffee or tea \nPricing: \n• Chamber Members: $20/person | For Ticket Click Here\n• Future Members: $25/person | For Ticket Click Here \nRSVP: director@fairlawnchamber.org \nPlease include the date you are RSVPing for.
URL:https://www.fairlawnchamber.org/event/monthly-breakfast-networking-at-the-gotham-city-diner-3/
LOCATION:Gotham City Diner\, 39-10 Broadway\, Fair Lawn\, NJ\, 07410\, United States
CATEGORIES:Networking
ATTACH;FMTTYPE=image/jpeg:https://www.fairlawnchamber.org/wp-content/uploads/2025/07/Monthly-Networking-Breakfast.jpg
END:VEVENT
BEGIN:VEVENT
DTSTART;TZID=America/New_York:20250813T080000
DTEND;TZID=America/New_York:20250813T100000
DTSTAMP:20260422T185717
CREATED:20250703T052603Z
LAST-MODIFIED:20250711T181323Z
UID:32030-1755072000-1755079200@www.fairlawnchamber.org
SUMMARY:Monthly Breakfast Networking at the Gotham City Diner
DESCRIPTION:The FLCC Invites You To Monthly Breakfast Networking \nMenu Options: \n• French Toast\n• Pancakes\n• 2 Eggs\, Hashbrowns\, Toast\n• Berry Oatmeal\n• Yogurt Bowl \nIncludes coffee or tea \nPricing: \n• Chamber Members: $20/person | For Ticket Click Here\n• Future Members: $25/person | For Ticket Click Here \nRSVP: director@fairlawnchamber.org \nPlease include the date you are RSVPing for.
URL:https://www.fairlawnchamber.org/event/monthly-breakfast-networking-at-the-gotham-city-diner-2/
LOCATION:Gotham City Diner\, 39-10 Broadway\, Fair Lawn\, NJ\, 07410\, United States
CATEGORIES:Networking
ATTACH;FMTTYPE=image/jpeg:https://www.fairlawnchamber.org/wp-content/uploads/2025/07/Monthly-Networking-Breakfast.jpg
END:VEVENT
BEGIN:VEVENT
DTSTART;TZID=America/New_York:20250807T120000
DTEND;TZID=America/New_York:20250807T133000
DTSTAMP:20260422T185717
CREATED:20250702T013341Z
LAST-MODIFIED:20250702T013849Z
UID:32015-1754568000-1754573400@www.fairlawnchamber.org
SUMMARY:Lunchtime Networking & Tour at Frank Webb Home
DESCRIPTION:The FLCC Invites You To \nLunchtime Networking with a Tour of Frank Webb Home \nLunch Will Be Provided \nMembers: Complimentary \nFuture Members: $15 | Click here for tickets \nFuture members are invited to attend events twice before full membership is required. \nRSVP: director@fairlawnchamber.org
URL:https://www.fairlawnchamber.org/event/lunchtime-networking-tour-at-frank-webb-home/
LOCATION:Frank Webb Home\, 261 Route 46 West\, Elmwood Park\, NJ\, 07407\, United States
CATEGORIES:Networking
ATTACH;FMTTYPE=image/png:https://www.fairlawnchamber.org/wp-content/uploads/2025/07/FW-Webb-Lunchtime-Event-8-7-2025-1.png
END:VEVENT
BEGIN:VEVENT
DTSTART;TZID=America/New_York:20250721T173000
DTEND;TZID=America/New_York:20250721T193000
DTSTAMP:20260422T185717
CREATED:20250620T105944Z
LAST-MODIFIED:20250711T181231Z
UID:31940-1753119000-1753126200@www.fairlawnchamber.org
SUMMARY:Summer Networking at the Dutch House
DESCRIPTION:Summer Networking at the Dutch House \n5:30pm – 7:30pm \nMembers: $10\, For Ticket Click Here \nFuture Members $20\, For Ticket Click Here \nBring your business cards for a fun night f networking. Cash bar! Light bites provided by The Dutch House.
URL:https://www.fairlawnchamber.org/event/summer-networking-at-the-dutch-house/
CATEGORIES:Networking
ATTACH;FMTTYPE=image/jpeg:https://www.fairlawnchamber.org/wp-content/uploads/2025/06/Summer-Networking.jpg
END:VEVENT
BEGIN:VEVENT
DTSTART;TZID=America/New_York:20250716T083000
DTEND;TZID=America/New_York:20250716T100000
DTSTAMP:20260422T185717
CREATED:20250610T072503Z
LAST-MODIFIED:20250711T181132Z
UID:31850-1752654600-1752660000@www.fairlawnchamber.org
SUMMARY:Morning Networking Sponsored by Jewish Family & Children’s Services of Northern NJ
DESCRIPTION:Morning Networking \nGet to “Know\, Like & Trust” Others in Business in order to Grow your Business \nRelationships matter! \nWednesday\, July 16 \nLocation: iLearn School\, 33-00 Broadway\, Fair Lawn \nTime: 8:30am – 10am \nMembers: Complimentary \nFuture Members: $15 \nFor Ticket Click Here \nRSVP : DIRECTOR@FAIRLAWNCHAMBER.ORG \nNote: Future Members may attend a total of 3 times before dues are required for membership.
URL:https://www.fairlawnchamber.org/event/morning-networking-sponsored-by-jewish-family-childrens-services-of-northern-nj/
LOCATION:iLearn School\, 33-00 Broadway\, Fair Lawn\, NJ\, United States
CATEGORIES:Networking
ATTACH;FMTTYPE=image/jpeg:https://www.fairlawnchamber.org/wp-content/uploads/2025/06/Morning-Networking-sponsored-by-Jewish-Family-Childrens-Services-of-Northern-NJ.jpg
END:VEVENT
BEGIN:VEVENT
DTSTART;TZID=America/New_York:20250709T080000
DTEND;TZID=America/New_York:20250709T100000
DTSTAMP:20260422T185717
CREATED:20250702T091141Z
LAST-MODIFIED:20250702T091141Z
UID:32026-1752048000-1752055200@www.fairlawnchamber.org
SUMMARY:Monthly Breakfast Networking at the Gotham City Diner
DESCRIPTION:The FLCC Invites You To Monthly Breakfast Networking \nMenu Options: \n• French Toast• Pancakes• 2 Eggs\, Hashbrowns\, Toast• Berry Oatmeal• Yogurt Bowl \nIncludes coffee or tea \nPricing: \n• Chamber Members: $20/person | For Ticket Click Here• Future Members: $25/person | For Ticket Click Here \nRSVP: director@fairlawnchamber.org \nPlease include the date you are RSVPing for.
URL:https://www.fairlawnchamber.org/event/monthly-breakfast-networking-at-the-gotham-city-diner/
LOCATION:Gotham City Diner\, 39-10 Broadway\, Fair Lawn\, NJ\, 07410\, United States
CATEGORIES:Networking
ATTACH;FMTTYPE=image/png:https://www.fairlawnchamber.org/wp-content/uploads/2025/07/FLCC-Monthly-Breakfast-Networking-Gotham-City-Diner.png
END:VEVENT
BEGIN:VEVENT
DTSTART;TZID=America/New_York:20250622T110000
DTEND;TZID=America/New_York:20250622T170000
DTSTAMP:20260422T185717
CREATED:20250128T104208Z
LAST-MODIFIED:20250501T055202Z
UID:30630-1750590000-1750611600@www.fairlawnchamber.org
SUMMARY:Fair Lawn Street Fair June 2025
DESCRIPTION:Become a Member and SAVE at our Fair Lawn Street Fair! \nLocation : Radburn Street Fair Date \nDOWNLOAD 2025 EXHIBITOR APPLICATION FORM
URL:https://www.fairlawnchamber.org/event/fair-lawn-chamber-of-commerce/
LOCATION:Radburn Street Fair Date\, Radburn\, Fair Lawn\, NJ\, United States
ATTACH;FMTTYPE=image/jpeg:https://www.fairlawnchamber.org/wp-content/uploads/2025/01/ChatGPT-Image-May-1-2025-12_48_47-PM.jpg
END:VEVENT
END:VCALENDAR