BEGIN:VCALENDAR
VERSION:2.0
PRODID:-//Fair Lawn Chamber of Commerce in Fair Lawn, New Jersey - ECPv6.15.12.2//NONSGML v1.0//EN
CALSCALE:GREGORIAN
METHOD:PUBLISH
X-WR-CALNAME:Fair Lawn Chamber of Commerce in Fair Lawn, New Jersey
X-ORIGINAL-URL:https://www.fairlawnchamber.org
X-WR-CALDESC:Events for Fair Lawn Chamber of Commerce in Fair Lawn, New Jersey
REFRESH-INTERVAL;VALUE=DURATION:PT1H
X-Robots-Tag:noindex
X-PUBLISHED-TTL:PT1H
BEGIN:VTIMEZONE
TZID:America/New_York
BEGIN:DAYLIGHT
TZOFFSETFROM:-0500
TZOFFSETTO:-0400
TZNAME:EDT
DTSTART:20250309T070000
END:DAYLIGHT
BEGIN:STANDARD
TZOFFSETFROM:-0400
TZOFFSETTO:-0500
TZNAME:EST
DTSTART:20251102T060000
END:STANDARD
BEGIN:DAYLIGHT
TZOFFSETFROM:-0500
TZOFFSETTO:-0400
TZNAME:EDT
DTSTART:20260308T070000
END:DAYLIGHT
BEGIN:STANDARD
TZOFFSETFROM:-0400
TZOFFSETTO:-0500
TZNAME:EST
DTSTART:20261101T060000
END:STANDARD
BEGIN:DAYLIGHT
TZOFFSETFROM:-0500
TZOFFSETTO:-0400
TZNAME:EDT
DTSTART:20270314T070000
END:DAYLIGHT
BEGIN:STANDARD
TZOFFSETFROM:-0400
TZOFFSETTO:-0500
TZNAME:EST
DTSTART:20271107T060000
END:STANDARD
END:VTIMEZONE
BEGIN:VEVENT
DTSTART;TZID=America/New_York:20260317T080000
DTEND;TZID=America/New_York:20260317T200000
DTSTAMP:20260422T185720
CREATED:20260119T171431Z
LAST-MODIFIED:20260119T171431Z
UID:32347-1773734400-1773777600@www.fairlawnchamber.org
SUMMARY:St. Patrick's Day
DESCRIPTION:
URL:https://www.fairlawnchamber.org/event/st-patricks-day/
END:VEVENT
BEGIN:VEVENT
DTSTART;TZID=America/New_York:20260326T083000
DTEND;TZID=America/New_York:20260326T103000
DTSTAMP:20260422T185720
CREATED:20260119T171431Z
LAST-MODIFIED:20260119T171431Z
UID:32348-1774513800-1774521000@www.fairlawnchamber.org
SUMMARY:New Member Breakfast (Members from 1/2025 - 3/2026)
DESCRIPTION:
URL:https://www.fairlawnchamber.org/event/new-member-breakfast-members-from-1-2025-3-2026/
END:VEVENT
BEGIN:VEVENT
DTSTART;TZID=America/New_York:20260402T180000
DTEND;TZID=America/New_York:20260402T220000
DTSTAMP:20260422T185720
CREATED:20260119T171454Z
LAST-MODIFIED:20260119T171454Z
UID:32349-1775152800-1775167200@www.fairlawnchamber.org
SUMMARY:Passover begins (April 2 - April 9\, 2026)
DESCRIPTION:
URL:https://www.fairlawnchamber.org/event/passover-begins-april-2-april-9-2026/
END:VEVENT
BEGIN:VEVENT
DTSTART;TZID=America/New_York:20260415T080000
DTEND;TZID=America/New_York:20260415T093000
DTSTAMP:20260422T185720
CREATED:20260119T171454Z
LAST-MODIFIED:20260119T171454Z
UID:32350-1776240000-1776245400@www.fairlawnchamber.org
SUMMARY:Networking & Breakfast @ Gotham City Diner
DESCRIPTION:
URL:https://www.fairlawnchamber.org/event/networking-breakfast-gotham-city-diner-3/
END:VEVENT
BEGIN:VEVENT
DTSTART;TZID=America/New_York:20260513T080000
DTEND;TZID=America/New_York:20260513T093000
DTSTAMP:20260422T185720
CREATED:20260119T171454Z
LAST-MODIFIED:20260119T171454Z
UID:32351-1778659200-1778664600@www.fairlawnchamber.org
SUMMARY:Networking & Breakfast @ Gotham City Diner
DESCRIPTION:
URL:https://www.fairlawnchamber.org/event/networking-breakfast-gotham-city-diner-4/
END:VEVENT
BEGIN:VEVENT
DTSTART;TZID=America/New_York:20260607T110000
DTEND;TZID=America/New_York:20260607T170000
DTSTAMP:20260422T185720
CREATED:20260119T171454Z
LAST-MODIFIED:20260119T171454Z
UID:32352-1780830000-1780851600@www.fairlawnchamber.org
SUMMARY:Fair Lawn Chamber Radburn Street Fair
DESCRIPTION:
URL:https://www.fairlawnchamber.org/event/fair-lawn-chamber-radburn-street-fair/
END:VEVENT
BEGIN:VEVENT
DTSTART;TZID=America/New_York:20260610T080000
DTEND;TZID=America/New_York:20260610T093000
DTSTAMP:20260422T185720
CREATED:20260119T171454Z
LAST-MODIFIED:20260119T171454Z
UID:32353-1781078400-1781083800@www.fairlawnchamber.org
SUMMARY:Networking & Breakfast @ Gotham City Diner
DESCRIPTION:
URL:https://www.fairlawnchamber.org/event/networking-breakfast-gotham-city-diner-5/
END:VEVENT
END:VCALENDAR