BEGIN:VCALENDAR
VERSION:2.0
PRODID:-//Fair Lawn Chamber of Commerce in Fair Lawn, New Jersey - ECPv6.15.12.2//NONSGML v1.0//EN
CALSCALE:GREGORIAN
METHOD:PUBLISH
X-ORIGINAL-URL:https://www.fairlawnchamber.org
X-WR-CALDESC:Events for Fair Lawn Chamber of Commerce in Fair Lawn, New Jersey
REFRESH-INTERVAL;VALUE=DURATION:PT1H
X-Robots-Tag:noindex
X-PUBLISHED-TTL:PT1H
BEGIN:VTIMEZONE
TZID:America/New_York
BEGIN:DAYLIGHT
TZOFFSETFROM:-0500
TZOFFSETTO:-0400
TZNAME:EDT
DTSTART:20230312T070000
END:DAYLIGHT
BEGIN:STANDARD
TZOFFSETFROM:-0400
TZOFFSETTO:-0500
TZNAME:EST
DTSTART:20231105T060000
END:STANDARD
BEGIN:DAYLIGHT
TZOFFSETFROM:-0500
TZOFFSETTO:-0400
TZNAME:EDT
DTSTART:20240310T070000
END:DAYLIGHT
BEGIN:STANDARD
TZOFFSETFROM:-0400
TZOFFSETTO:-0500
TZNAME:EST
DTSTART:20241103T060000
END:STANDARD
BEGIN:DAYLIGHT
TZOFFSETFROM:-0500
TZOFFSETTO:-0400
TZNAME:EDT
DTSTART:20250309T070000
END:DAYLIGHT
BEGIN:STANDARD
TZOFFSETFROM:-0400
TZOFFSETTO:-0500
TZNAME:EST
DTSTART:20251102T060000
END:STANDARD
END:VTIMEZONE
BEGIN:VTIMEZONE
TZID:UTC
BEGIN:STANDARD
TZOFFSETFROM:+0000
TZOFFSETTO:+0000
TZNAME:UTC
DTSTART:20230101T000000
END:STANDARD
END:VTIMEZONE
BEGIN:VEVENT
DTSTART;TZID=America/New_York:20241008T180000
DTEND;TZID=America/New_York:20241008T200000
DTSTAMP:20260425T183352
CREATED:20240901T200410Z
LAST-MODIFIED:20240901T204938Z
UID:29873-1728410400-1728417600@www.fairlawnchamber.org
SUMMARY:Easy Breezy Networking for Chambers
DESCRIPTION:ICC – OCTOBER NETWORKING \nThe Ridgewood and Mahwah Chambers invite you for an informal networking at Westy Self Storage – 200 Rt 17 North\, USR\, NJ 07458 \nBeverages & Lite Bites \nWe invite you to join us….
URL:https://www.fairlawnchamber.org/event/easy-breezy-networking-for-chambers/
LOCATION:Westy Self Storage – 200 Rt 17 North\, USR\, NJ07458\, 200 Rt 17 North\, Upper Saddle River\, NJ\, 07458\, United States
END:VEVENT
BEGIN:VEVENT
DTSTART;TZID=America/New_York:20241015T114500
DTEND;TZID=America/New_York:20241015T130000
DTSTAMP:20260425T183352
CREATED:20241007T160828Z
LAST-MODIFIED:20241007T160828Z
UID:29998-1728992700-1728997200@www.fairlawnchamber.org
SUMMARY:Fair Lawn Chamber of Commerce Monthly Member Meeting
DESCRIPTION:
URL:https://www.fairlawnchamber.org/event/fair-lawn-chamber-of-commerce-monthly-member-meeting/
LOCATION:American Legion Hall\, 17-08 River Road\, Fair Lawn\, NJ\, 07410\, United States
END:VEVENT
BEGIN:VEVENT
DTSTART;TZID=America/New_York:20241015T114500
DTEND;TZID=America/New_York:20241015T130000
DTSTAMP:20260425T183352
CREATED:20241015T154558Z
LAST-MODIFIED:20241007T160437Z
UID:29936-1728992700-1728997200@www.fairlawnchamber.org
SUMMARY:Membership Meeting
DESCRIPTION:Join us for lunch and networking!
URL:https://www.fairlawnchamber.org/event/membership-meeting-5/
LOCATION:American Legion Hall\, 17-08 River Road\, Fair Lawn\, NJ\, 07410\, United States
CATEGORIES:Meeting
END:VEVENT
BEGIN:VEVENT
DTSTART;TZID=America/New_York:20241015T180000
DTEND;TZID=America/New_York:20241015T200000
DTSTAMP:20260425T183352
CREATED:20240923T201639Z
LAST-MODIFIED:20240923T201810Z
UID:29954-1729015200-1729022400@www.fairlawnchamber.org
SUMMARY:Mega Net at Miller's Ale House
DESCRIPTION:Bergen County’s Biggest Networking Event! \nCome join 15 Chambers for an evening of networking at Miller’s Ale House! \nTuesday\, October 15th at 6PM! Appetizers included! \n \nMember Registration \nhttps://www.paypal.com/ncp/payment/9L5WYZK2ASVF4 \nFuture Member Registration: \nhttps://www.paypal.com/ncp/payment/F95MBMTECM2FW
URL:https://www.fairlawnchamber.org/event/mega-net-at-millers-ale-house/
LOCATION:Miller Ale House\, 270 Route 4 East\, Paramus\, NJ\, 07652
ATTACH;FMTTYPE=image/jpeg:https://www.fairlawnchamber.org/wp-content/uploads/2024/09/MEGA-NET.jpg
END:VEVENT
BEGIN:VEVENT
DTSTART;TZID=UTC:20241020T110000
DTEND;TZID=UTC:20241020T170000
DTSTAMP:20260425T183352
CREATED:20240503T185803Z
LAST-MODIFIED:20240912T203419Z
UID:504-1729422000-1729443600@www.fairlawnchamber.org
SUMMARY:River Road Street Fair
DESCRIPTION:Dear Artist\, Crafter\, Vendor: \nFor 2024\, we have 20 large\, high-quality Street Fairs & Craft Shows throughout New Jersey.  You may choose the show(s) that are convenient for you. \nPlease visit our website at http://www.StreetFairs.org and click on the Red Box for our free 2024 Calendar & Application Form. \nIMPORTANT: Print out and mail in the information and a check.
URL:https://www.fairlawnchamber.org/event/street-fairs/
ATTACH;FMTTYPE=application/pdf:https://www.fairlawnchamber.org/wp-content/uploads/2024/05/2024-FL-Application-Form.pdf
END:VEVENT
END:VCALENDAR